BEGIN:VCALENDAR
VERSION:2.0
PRODID:-// - ECPv6.6.1//NONSGML v1.0//EN
CALSCALE:GREGORIAN
METHOD:PUBLISH
X-ORIGINAL-URL:https://span-arts-dev.co.uk
X-WR-CALDESC:Events for 
REFRESH-INTERVAL;VALUE=DURATION:PT1H
X-Robots-Tag:noindex
X-PUBLISHED-TTL:PT1H
BEGIN:VTIMEZONE
TZID:Europe/London
BEGIN:DAYLIGHT
TZOFFSETFROM:+0000
TZOFFSETTO:+0100
TZNAME:BST
DTSTART:20240331T010000
END:DAYLIGHT
BEGIN:STANDARD
TZOFFSETFROM:+0100
TZOFFSETTO:+0000
TZNAME:GMT
DTSTART:20241027T010000
END:STANDARD
END:VTIMEZONE
BEGIN:VEVENT
DTSTART;TZID=Europe/London:20240731T180000
DTEND;TZID=Europe/London:20240731T180000
DTSTAMP:20260421T103119
CREATED:20240630T030123Z
LAST-MODIFIED:20240718T100258Z
UID:30543-1722448800-1722448800@span-arts-dev.co.uk
SUMMARY:SPAN Arts AGM - In person ticket
DESCRIPTION:The SPAN Arts AGM is being held on 31st\nJuly 2024.  \nThe AGM will be both online and in person. Tickets are free but booking is required to attend in person as there is a limited capacity.  \n \nTime: 6pm  \nLocation: Span Arts Building\n(approx. 1 hour) \n \nAlso hybrid (No Ticket required): \nhttps://us02web.zoom.us/j/87429763235?pwd=T2Wp7IDz4AD1jbJTjnv8B4qbGqEKOJ.1
URL:https://span-arts-dev.co.uk/event/span-arts-agm-in-person-ticket/
LOCATION:Span Arts Building\, Narberth
ATTACH;FMTTYPE=image/png:https://span-arts-dev.co.uk/wp-content/uploads/2024/06/span-arts-agm-in-person-ticket.png
END:VEVENT
END:VCALENDAR