BEGIN:VCALENDAR
VERSION:2.0
PRODID:-// - ECPv6.6.1//NONSGML v1.0//EN
CALSCALE:GREGORIAN
METHOD:PUBLISH
X-ORIGINAL-URL:https://span-arts-dev.co.uk
X-WR-CALDESC:Events for 
REFRESH-INTERVAL;VALUE=DURATION:PT1H
X-Robots-Tag:noindex
X-PUBLISHED-TTL:PT1H
BEGIN:VTIMEZONE
TZID:Europe/London
BEGIN:DAYLIGHT
TZOFFSETFROM:+0000
TZOFFSETTO:+0100
TZNAME:BST
DTSTART:20240331T010000
END:DAYLIGHT
BEGIN:STANDARD
TZOFFSETFROM:+0100
TZOFFSETTO:+0000
TZNAME:GMT
DTSTART:20241027T010000
END:STANDARD
END:VTIMEZONE
BEGIN:VEVENT
DTSTART;TZID=Europe/London:20240810T140000
DTEND;TZID=Europe/London:20240810T140000
DTSTAMP:20260421T103411
CREATED:20240422T130610Z
LAST-MODIFIED:20240718T100258Z
UID:28540-1723298400-1723298400@span-arts-dev.co.uk
SUMMARY:BAMBOO by NoFit State
DESCRIPTION:We are excited to be hosting BAMBOO by NoFit State – a spectacular new high-impact\, high-skill outdoor circus production using only bamboo and human bodies – revealing the fragility and beauty of our interconnected and interdependent life on this planet.\n\n\n\nThe artists arrive at an empty stage\, bringing bundles of bamboo. They build towering sculptures which morph\, transform and become an improbable\, delicate circus playground that seems to defy the laws of physics. \n\nInhabited by world-class circus artists and acrobats\, the structures bend\, and flex\, adding to the tension\, drama\, and sense of jeopardy that lies at the heart of great circus.\n\nA meaningful\, joyful performance with live music\, comedy and amazing feats of strength and agility. \n\nTogether we celebrate what’s possible when humans and the natural world trust each other and work in harmony.\n\n\n\nSaturday 10th August \n\n\nStart times: 2pm and 5pm \n\n\nColby Woodland Gardens\, Garden Road\, Amroth SA67 8PP \n\n\nDuration: 45 minutes  \n \nBAMBOO. A NoFit State production directed by Mish Weaver\, in collaboration with Orit Azaz and Imagineer Productions. It is supported by the Arts Council of Wales\, the Foyle Foundation\, and Without Walls\, and commissioned by Stockton International Riverside Festival\, Norfolk & Norwich Festival\, Hat Fair and Timber Festival. \n \n\nParking: there is paid parking available at the National Trust site\, but space may be limited\, please arrive early to ensure a space. Alternatively\, additional parking is available in Amroth and you can walk to the site from the beach\, this will take about 20-30 mins.  \n\n\nPublic transport is available to Amroth and you can walk to the site from there.  \n\n\nIn addition to seeing the show\, you will have access to explore the National Trust site. \n\n\nFacilities: The path to the performance site is wheelchair accessible\, please be aware that the performance will be on grass. There are accessible and public toilets available on site along with café facilities run by the National Trust.  \n\n\n\nIf you have any specific access needs please contact Bethan Morgan\, SPAN Community Producer\, at info@span-arts.org.uk  \n\n\n\nThis is an outdoor show\, there will be some mats available for people to sit on the ground at the front of the performance but the remaining audience will be standing.  \n\n\n\nWeather: we will do all we can to ensure the show goes on\, if there are gusts of over 25 miles an hour up to 25 hrs before the show\, the site will close\, if there is heavy rain that poses a risk to the performer&apos;s safety we will have to cancel the show. As there is some Arts Council of Wales funding supporting this show\, if we have to cancel the show\, your ticket price will be refunded. 
URL:https://span-arts-dev.co.uk/event/bamboo-by-nofit-state/
LOCATION:Colby Woodland Gardens
ATTACH;FMTTYPE=image/jpeg:https://span-arts-dev.co.uk/wp-content/uploads/2024/04/bamboo-by-nofit-state.jpg
END:VEVENT
BEGIN:VEVENT
DTSTART;TZID=Europe/London:20240810T170000
DTEND;TZID=Europe/London:20240810T170000
DTSTAMP:20260421T103411
CREATED:20240422T130610Z
LAST-MODIFIED:20240718T100258Z
UID:28550-1723309200-1723309200@span-arts-dev.co.uk
SUMMARY:BAMBOO by NoFit State
DESCRIPTION:We are excited to be hosting BAMBOO by NoFit State – a spectacular new high-impact\, high-skill outdoor circus production using only bamboo and human bodies – revealing the fragility and beauty of our interconnected and interdependent life on this planet.\n\n\n\nThe artists arrive at an empty stage\, bringing bundles of bamboo. They build towering sculptures which morph\, transform and become an improbable\, delicate circus playground that seems to defy the laws of physics. \n\nInhabited by world-class circus artists and acrobats\, the structures bend\, and flex\, adding to the tension\, drama\, and sense of jeopardy that lies at the heart of great circus.\n\nA meaningful\, joyful performance with live music\, comedy and amazing feats of strength and agility. \n\nTogether we celebrate what’s possible when humans and the natural world trust each other and work in harmony.\n\n\n\nSaturday 10th August \n\n\nStart times: 2pm and 5pm \n\n\nColby Woodland Gardens\, Garden Road\, Amroth SA67 8PP \n\n\nDuration: 45 minutes  \n \nBAMBOO. A NoFit State production directed by Mish Weaver\, in collaboration with Orit Azaz and Imagineer Productions. It is supported by the Arts Council of Wales\, the Foyle Foundation\, and Without Walls\, and commissioned by Stockton International Riverside Festival\, Norfolk & Norwich Festival\, Hat Fair and Timber Festival. \n \n\nParking: there is paid parking available at the National Trust site\, but space may be limited\, please arrive early to ensure a space. Alternatively\, additional parking is available in Amroth and you can walk to the site from the beach\, this will take about 20-30 mins.  \n\n\nPublic transport is available to Amroth and you can walk to the site from there.  \n\n\nIn addition to seeing the show\, you will have access to explore the National Trust site. \n\n\nFacilities: The path to the performance site is wheelchair accessible\, please be aware that the performance will be on grass. There are accessible and public toilets available on site along with café facilities run by the National Trust.  \n\n\n\nIf you have any specific access needs please contact Bethan Morgan\, SPAN Community Producer\, at info@span-arts.org.uk  \n\n\n\nThis is an outdoor show\, there will be some mats available for people to sit on the ground at the front of the performance but the remaining audience will be standing.  \n\n\n\nWeather: we will do all we can to ensure the show goes on\, if there are gusts of over 25 miles an hour up to 25 hrs before the show\, the site will close\, if there is heavy rain that poses a risk to the performer&apos;s safety we will have to cancel the show. As there is some Arts Council of Wales funding supporting this show\, if we have to cancel the show\, your ticket price will be refunded. 
URL:https://span-arts-dev.co.uk/event/bamboo-by-nofit-state-2/
LOCATION:Colby Woodland Gardens
ATTACH;FMTTYPE=image/jpeg:https://span-arts-dev.co.uk/wp-content/uploads/2024/04/bamboo-by-nofit-state.jpg
END:VEVENT
END:VCALENDAR