BEGIN:VCALENDAR
VERSION:2.0
PRODID:-// - ECPv6.6.1//NONSGML v1.0//EN
CALSCALE:GREGORIAN
METHOD:PUBLISH
X-ORIGINAL-URL:https://span-arts-dev.co.uk
X-WR-CALDESC:Events for 
REFRESH-INTERVAL;VALUE=DURATION:PT1H
X-Robots-Tag:noindex
X-PUBLISHED-TTL:PT1H
BEGIN:VTIMEZONE
TZID:Europe/London
BEGIN:DAYLIGHT
TZOFFSETFROM:+0000
TZOFFSETTO:+0100
TZNAME:BST
DTSTART:20240331T010000
END:DAYLIGHT
BEGIN:STANDARD
TZOFFSETFROM:+0100
TZOFFSETTO:+0000
TZNAME:GMT
DTSTART:20241027T010000
END:STANDARD
END:VTIMEZONE
BEGIN:VEVENT
DTSTART;TZID=Europe/London:20240629T134500
DTEND;TZID=Europe/London:20240629T134500
DTSTAMP:20260421T154828
CREATED:20240604T152245Z
LAST-MODIFIED:20240605T082538Z
UID:30453-1719668700-1719668700@span-arts-dev.co.uk
SUMMARY:Queer Culture Jam
DESCRIPTION:Join Emily Laurens for Queer Art Patches\, a creative workshop for all the family as part of Queer Culture Jam. Create your own wearable art: a painted\, printed or appliqué patch to sew onto your clothes. \nEmily Laurens is a multidisciplinary artist\, educator and trainee art therapist who makes work about queer ecology\, eco-sexuality\, and the joys of complexity. \nQueer Culture Jam is a collaborative day of workshops\, panel discussions\, food and a dance party led by a range of local queer creatives and hosted by broadcaster and writer Damian Kerlin.  \n \nAll materials provided\, bring an apron or\nold T shirt to protect your clothes from fabric paint. \n \nTickets: Free\, Booking required. \nTime: 11am – 12:30pm \nLocation: Venue 1: Ffwrn\, 6 Main Street\, Fishguard\nSA65 9HH \nSuitable for all ages.
URL:https://span-arts-dev.co.uk/event/queer-culture-jam/
LOCATION:Ffwrn\, Fishguard
CATEGORIES:Workshops
ATTACH;FMTTYPE=image/jpeg:https://span-arts-dev.co.uk/wp-content/uploads/2024/06/queer-culture-jam.jpg
END:VEVENT
BEGIN:VEVENT
DTSTART;TZID=Europe/London:20240629T110000
DTEND;TZID=Europe/London:20240629T110000
DTSTAMP:20260421T154828
CREATED:20240604T152245Z
LAST-MODIFIED:20240630T003318Z
UID:30458-1719658800-1719658800@span-arts-dev.co.uk
SUMMARY:Queer Culture Jam
DESCRIPTION:Join Emily Laurens for Queer Art Patches\, a creative workshop for all the family as part of Queer Culture Jam. Create your own wearable art: a painted\, printed or appliqué patch to sew onto your clothes. \nEmily Laurens is a multidisciplinary artist\, educator and trainee art therapist who makes work about queer ecology\, eco-sexuality\, and the joys of complexity. \nQueer Culture Jam is a collaborative day of workshops\, panel discussions\, food and a dance party led by a range of local queer creatives and hosted by broadcaster and writer Damian Kerlin.  \n \nAll materials provided\, bring an apron or\nold T shirt to protect your clothes from fabric paint. \n \nTickets: Free\, Booking required. \nTime: 11am – 12:30pm \nLocation: Venue 1: Ffwrn\, 6 Main Street\, Fishguard\nSA65 9HH \nSuitable for all ages.
URL:https://span-arts-dev.co.uk/event/queer-culture-jam-2/
LOCATION:Ffwrn\, Fishguard
CATEGORIES:Workshops
ATTACH;FMTTYPE=image/jpeg:https://span-arts-dev.co.uk/wp-content/uploads/2024/06/queer-culture-jam.jpg
END:VEVENT
BEGIN:VEVENT
DTSTART;TZID=Europe/London:20240617T190000
DTEND;TZID=Europe/London:20240617T190000
DTSTAMP:20260421T154828
CREATED:20240422T130610Z
LAST-MODIFIED:20240611T151045Z
UID:28545-1718650800-1718650800@span-arts-dev.co.uk
SUMMARY:Cân Sing Span Arts Singing Workshops
DESCRIPTION:Cân Sing will now be taking place at the SPAN Building\, Narberth\, at the regular time of 7.00 pm – 9.00 pm \nLimited sapces – Book by choosing the date below.  \nCân Sing is a relaxed environment in which we sing for the sake of singing! \nJoin vocal practitioner Molara for an exploratory celebration of singing\, work on strengthening the voice\, overcoming some of the physical and emotional barriers to singing openly and freely\, and above all singing for enjoyment. \nThe repertoire is varied with songs from Georgia\, Ghana\, Zimbabwe\, and Hawaii with a few shanties and some pop thrown in for good measure. \nThe group has been meeting for many years\, with new additions along the way. It&apos;s perfect if you are looking to sing regularly in a pressure free environment\, or whether you fancy dropping in for a sing every so often. The pace of the teaching is easily accessible to all\, with no time restraints. \nEvery 1st and 3rd Monday of the month\, except Bank Holidays. \n7.00 pm – 9.00 pm \nSPAN Arts Building\, Narberth SA67 7AG \nSessions £7
URL:https://span-arts-dev.co.uk/event/can-sing-span-arts-singing-workshops/
LOCATION:Span Arts (Can Sing)
ATTACH;FMTTYPE=image/jpeg:https://span-arts-dev.co.uk/wp-content/uploads/2024/04/can-sing-span-arts-singing-workshops.jpg
END:VEVENT
BEGIN:VEVENT
DTSTART;TZID=Europe/London:20240614T190000
DTEND;TZID=Europe/London:20240614T190000
DTSTAMP:20260421T154828
CREATED:20240422T130609Z
LAST-MODIFIED:20240611T151045Z
UID:28535-1718391600-1718391600@span-arts-dev.co.uk
SUMMARY:Outdoor Shakespeare - The Tempest
DESCRIPTION:With a hope for a sunny evening\, this year SPAN’s popular annual outdoor Shakespeare production will take place on Friday the 14th of June. Join SPAN and the Festival Players for a rousing production of The Tempest. \nShakespeare’s last\, and\ngreat\, play is a triumphant compilation of intrigue\, magic\, and humour.\nProspero\, an exiled Duke with supernatural powers\, creates a great storm which\nsees his enemies shipwrecked on his island. Magic abounds\, plots are exposed\,\nand a colourful array of characters gain their deserts. Fascinating\nentertainment. \nLampeter House\, located in the village of Lampeter Velfrey\, just outside Narberth\, provides the perfect setting for outdoor Shakespeare\, with a small amphitheatre-style theatre built into the beautiful grounds of this lovely estate. \nThe performance will be open-air. The audience is encouraged to be prepared for any weathers\, as the show will go on come rain or shine. Audience members are welcome to bring their own seating. \nA wide range of delicious refreshments will be available at the bar\, which will be stocked with locally-sourced foods. \nThis is a popular event; advance booking is recommended to secure your place. \nThe venue is wheelchair accessible and tickets are free for carers. Please email info@span-arts.org.uk to let us know your access needs upon booking. \nFor more information about the Festival Players\, please visit:http://thefestivalplayers.co.uk/ \nDate: Friday 14th June \nTime: Grounds open 6pm\, show starts 7pm \nPricing: Adults £15.00\, Concessions £13.00\, Family Ticket £45 (Covers 4 tickets. Must include at least 1 child) \nLocation: Lampeter House\, Lampeter Velfrey\, Narberth\, SA67 8UQ.   
URL:https://span-arts-dev.co.uk/event/outdoor-shakespeare-the-tempest/
LOCATION:Lampeter House\, near Narberth
ATTACH;FMTTYPE=image/jpeg:https://span-arts-dev.co.uk/wp-content/uploads/2024/04/outdoor-shakespeare-the-tempest.jpg
END:VEVENT
BEGIN:VEVENT
DTSTART;TZID=Europe/London:20240603T190000
DTEND;TZID=Europe/London:20240603T190000
DTSTAMP:20260421T154828
CREATED:20240422T130611Z
LAST-MODIFIED:20240603T224857Z
UID:28556-1717441200-1717441200@span-arts-dev.co.uk
SUMMARY:Cân Sing Span Arts Singing Workshops
DESCRIPTION:Cân Sing will now be taking place at the SPAN Building\, Narberth\, at the regular time of 7.00 pm – 9.00 pm \nLimited sapces – Book by choosing the date below.  \nCân Sing is a relaxed environment in which we sing for the sake of singing! \nJoin vocal practitioner Molara for an exploratory celebration of singing\, work on strengthening the voice\, overcoming some of the physical and emotional barriers to singing openly and freely\, and above all singing for enjoyment. \nThe repertoire is varied with songs from Georgia\, Ghana\, Zimbabwe\, and Hawaii with a few shanties and some pop thrown in for good measure. \nThe group has been meeting for many years\, with new additions along the way. It&apos;s perfect if you are looking to sing regularly in a pressure free environment\, or whether you fancy dropping in for a sing every so often. The pace of the teaching is easily accessible to all\, with no time restraints. \nEvery 1st and 3rd Monday of the month\, except Bank Holidays. \n7.00 pm – 9.00 pm \nSPAN Arts Building\, Narberth SA67 7AG \nSessions £7
URL:https://span-arts-dev.co.uk/event/can-sing-span-arts-singing-workshops-4/
LOCATION:Span Arts (Can Sing)
ATTACH;FMTTYPE=image/jpeg:https://span-arts-dev.co.uk/wp-content/uploads/2024/04/can-sing-span-arts-singing-workshops.jpg
END:VEVENT
BEGIN:VEVENT
DTSTART;TZID=Europe/London:20240520T190000
DTEND;TZID=Europe/London:20240520T190000
DTSTAMP:20260421T154828
CREATED:20240422T130611Z
LAST-MODIFIED:20240520T222038Z
UID:28552-1716231600-1716231600@span-arts-dev.co.uk
SUMMARY:Cân Sing Span Arts Singing Workshops
DESCRIPTION:Cân Sing will now be taking place at the SPAN Building\, Narberth\, at the regular time of 7.00 pm – 9.00 pm \nLimited sapces – Book by choosing the date below.  \nCân Sing is a relaxed environment in which we sing for the sake of singing! \nJoin vocal practitioner Molara for an exploratory celebration of singing\, work on strengthening the voice\, overcoming some of the physical and emotional barriers to singing openly and freely\, and above all singing for enjoyment. \nThe repertoire is varied with songs from Georgia\, Ghana\, Zimbabwe\, and Hawaii with a few shanties and some pop thrown in for good measure. \nThe group has been meeting for many years\, with new additions along the way. It&apos;s perfect if you are looking to sing regularly in a pressure free environment\, or whether you fancy dropping in for a sing every so often. The pace of the teaching is easily accessible to all\, with no time restraints. \nEvery 1st and 3rd Monday of the month\, except Bank Holidays. \n7.00 pm – 9.00 pm \nSPAN Arts Building\, Narberth SA67 7AG \nSessions £7
URL:https://span-arts-dev.co.uk/event/can-sing-span-arts-singing-workshops-2/
LOCATION:Span Arts (Can Sing)
ATTACH;FMTTYPE=image/jpeg:https://span-arts-dev.co.uk/wp-content/uploads/2024/04/can-sing-span-arts-singing-workshops.jpg
END:VEVENT
END:VCALENDAR