BEGIN:VCALENDAR
VERSION:2.0
PRODID:-// - ECPv6.6.1//NONSGML v1.0//EN
CALSCALE:GREGORIAN
METHOD:PUBLISH
X-ORIGINAL-URL:https://span-arts-dev.co.uk
X-WR-CALDESC:Events for 
REFRESH-INTERVAL;VALUE=DURATION:PT1H
X-Robots-Tag:noindex
X-PUBLISHED-TTL:PT1H
BEGIN:VTIMEZONE
TZID:Europe/London
BEGIN:DAYLIGHT
TZOFFSETFROM:+0000
TZOFFSETTO:+0100
TZNAME:BST
DTSTART:20240331T010000
END:DAYLIGHT
BEGIN:STANDARD
TZOFFSETFROM:+0100
TZOFFSETTO:+0000
TZNAME:GMT
DTSTART:20241027T010000
END:STANDARD
END:VTIMEZONE
BEGIN:VEVENT
DTSTART;TZID=Europe/London:20240701T190000
DTEND;TZID=Europe/London:20240701T190000
DTSTAMP:20260421T103330
CREATED:20240422T130611Z
LAST-MODIFIED:20240701T234815Z
UID:28554-1719860400-1719860400@span-arts-dev.co.uk
SUMMARY:Cân Sing Span Arts Singing Workshops
DESCRIPTION:Cân Sing will now be taking place at the SPAN Building\, Narberth\, at the regular time of 7.00 pm – 9.00 pm \nLimited sapces – Book by choosing the date below.  \nCân Sing is a relaxed environment in which we sing for the sake of singing! \nJoin vocal practitioner Molara for an exploratory celebration of singing\, work on strengthening the voice\, overcoming some of the physical and emotional barriers to singing openly and freely\, and above all singing for enjoyment. \nThe repertoire is varied with songs from Georgia\, Ghana\, Zimbabwe\, and Hawaii with a few shanties and some pop thrown in for good measure. \nThe group has been meeting for many years\, with new additions along the way. It&apos;s perfect if you are looking to sing regularly in a pressure free environment\, or whether you fancy dropping in for a sing every so often. The pace of the teaching is easily accessible to all\, with no time restraints. \nEvery 1st and 3rd Monday of the month\, except Bank Holidays. \n7.00 pm – 9.00 pm \nSPAN Arts Building\, Narberth SA67 7AG \nSessions £7
URL:https://span-arts-dev.co.uk/event/can-sing-span-arts-singing-workshops-3/
LOCATION:Span Arts (Can Sing)
ATTACH;FMTTYPE=image/jpeg:https://span-arts-dev.co.uk/wp-content/uploads/2024/04/can-sing-span-arts-singing-workshops.jpg
END:VEVENT
BEGIN:VEVENT
DTSTART;TZID=Europe/London:20240714T170000
DTEND;TZID=Europe/London:20240714T170000
DTSTAMP:20260421T103330
CREATED:20240702T150645Z
LAST-MODIFIED:20240714T225354Z
UID:30551-1720976400-1720976400@span-arts-dev.co.uk
SUMMARY:We Move Celebration
DESCRIPTION:Join SPAN in celebrating the We Move project with an\nevening of music\, film and performance. \nSPAN\, in partnership with Llwy Gariad group of diverse\npeople of West Wales\, is proud to present an evening of celebration for the We\nMove project\, a Global Majority youth social action project bringing young\npeople together. \nJoin us for films and music created and presented by We\nMove\, a youth-led project for Global Majority children and young people across\nWest Wales. Celebrate the We Move Project with delicious food from the Zahia’s\nKitchen\, live music from the We Move house band\, aerial\ncircus from Eliza\, and a performance from The Successors of the Mandingue. \nThe project is supported by the Children in Need We Move fund.\nThe £1m We Move Fund: Youth Social Action aims to empower Black children and\nyoung people to use their voice to tackle subjects that matter to them and\ncreate change. We know that Black children and young people face many barriers\nin British society. Inequality\, racism and discrimination prevent Black\nchildren and young people from accessing many opportunities including accessing\nsimilar opportunities and services compared to their peers and engaging in\nsocial\, cultural\, education and economic activity. \nThe project seeks to achieve positive outcomes for Global\nMajority children and young people through Youth Social Action\, and for\nChildren in Need to learn about what Youth Social Action means to Black\nchildren and young people. They will share this learning with the sector. \nWe invite you to come and share in this joyful celebration\nof the project\, taking place at Small World Theatre on 14 of July\, 4:30 – 9pm. Tickets\nare £5 and booking is required. Please also pre-book your food by contacting wemove@span-arts.org.uk after booking\nyour ticket. \n \nEvent Details \nDate: Sunday 14\nJuly 2024 \nTime: Doors open\n4:30pm. Start 5pm until 9pm. \nPricing: £5  \nLocations: Small\nWorld Theatre\, Small World Theatre. Bath-House Rd\, Cardigan SA43 1JY \nBook: https://span-arts.ticketsolve.com/ticketbooth/shows/873662334 \nFor ticket holders who need access support to attend\, we\noffer a free ticket for their companion\, carer or personal assistant. Contact 01834\n869323 to book your carers ticket. Please contact info@spanarts.org to discuss your\naccessibility needs. \nSchedule:  \n4.30pm: door and bar open  \n5pm: Welcome speeches by Molara Awen\,\nWe Move Project Lead. The We Move youth present their films\n  \n6pm: Food is served from Small World&apos;s\nkitchen. The audience is asked to pre-order their dishes by contacting Molara\ndirectly at wemove@span-arts.org.uk \n7pm: live music from the We Move house band\naccompanied by an aerial circus performance by Eliza at 7.25pm  \n7.45pm: The Successors of the Mandingue
URL:https://span-arts-dev.co.uk/event/we-move-celebration/
LOCATION:Small World Theatre
ATTACH;FMTTYPE=image/jpeg:https://span-arts-dev.co.uk/wp-content/uploads/2024/07/we-move-celebration.jpg
END:VEVENT
BEGIN:VEVENT
DTSTART;TZID=Europe/London:20240715T190000
DTEND;TZID=Europe/London:20240715T190000
DTSTAMP:20260421T103330
CREATED:20240422T130611Z
LAST-MODIFIED:20240715T223413Z
UID:28558-1721070000-1721070000@span-arts-dev.co.uk
SUMMARY:Cân Sing Span Arts Singing Workshops
DESCRIPTION:Cân Sing will now be taking place at the SPAN Building\, Narberth\, at the regular time of 7.00 pm – 9.00 pm \nLimited sapces – Book by choosing the date below.  \nCân Sing is a relaxed environment in which we sing for the sake of singing! \nJoin vocal practitioner Molara for an exploratory celebration of singing\, work on strengthening the voice\, overcoming some of the physical and emotional barriers to singing openly and freely\, and above all singing for enjoyment. \nThe repertoire is varied with songs from Georgia\, Ghana\, Zimbabwe\, and Hawaii with a few shanties and some pop thrown in for good measure. \nThe group has been meeting for many years\, with new additions along the way. It&apos;s perfect if you are looking to sing regularly in a pressure free environment\, or whether you fancy dropping in for a sing every so often. The pace of the teaching is easily accessible to all\, with no time restraints. \nEvery 1st and 3rd Monday of the month\, except Bank Holidays. \n7.00 pm – 9.00 pm \nSPAN Arts Building\, Narberth SA67 7AG \nSessions £7
URL:https://span-arts-dev.co.uk/event/can-sing-span-arts-singing-workshops-5/
LOCATION:Span Arts (Can Sing)
ATTACH;FMTTYPE=image/jpeg:https://span-arts-dev.co.uk/wp-content/uploads/2024/04/can-sing-span-arts-singing-workshops.jpg
END:VEVENT
BEGIN:VEVENT
DTSTART;TZID=Europe/London:20240725T100000
DTEND;TZID=Europe/London:20240725T100000
DTSTAMP:20260421T103330
CREATED:20240630T030124Z
LAST-MODIFIED:20240718T100258Z
UID:30548-1721901600-1721901600@span-arts-dev.co.uk
SUMMARY:Sonic Spider: Musicians Workshop
DESCRIPTION:SPAN\narts are offering a unique opportunity for local\nMusicians interested in improvisation\, learning to play new\, experimental instruments\,\nand using musical skill to imagine yourself into the mind of another creature. \n \nSonic Spider is an immersive\, large scale\, hypnotic\,\nmusical interpretation of the consciousness of the orb web spider\, alone in her web\, patiently waiting and listening – for the\napproach of prey or predator\, or the wind and weather. Her whole world is\nperceived through vibrations\, as she can hardly see. \n \nJoin The Sonic Spider: \nSPAN arts are seeking local Musicians interested in\nimprovisation\, learning to play new\, experimental instruments\, and using\nmusical skill to imagine yourself into the mind of another creature\, to take\npart in workshops and performances of The Sonic Spider as part of Narberth Civic\nweek.  \n  \nWorkshop and\nPerformances: \n  \nThe Sonic Spider workshop on Thursday 25 July\, between 11am\n– 1pm at Narberth Scout Hut. \nParticipants will be invited to join the performances later\nthat day from 2pm and on Friday 26 July from 10 am. \nThe workshop is FREE but advanced booking is required. \nTo reserve your space go to www.span-arts.org.uk\nand book your workshop ticket. \nFor more information email info@span-arts.org.uk \n \n \nLocation:  \n \nNarberth Scout Hut\, Narberth\, Pembrokeshire. SA67 8AG \n \nDates:  \nWorkshop: 25\nJuly\, between 11 am and 1 pm \n \nPerformances: 25 July following the workshop and 26 July from 10 am.
URL:https://span-arts-dev.co.uk/event/sonic-spider-musicians-workshop/
LOCATION:Narberth Scout Hut
END:VEVENT
BEGIN:VEVENT
DTSTART;TZID=Europe/London:20240731T180000
DTEND;TZID=Europe/London:20240731T180000
DTSTAMP:20260421T103330
CREATED:20240630T030123Z
LAST-MODIFIED:20240718T100258Z
UID:30543-1722448800-1722448800@span-arts-dev.co.uk
SUMMARY:SPAN Arts AGM - In person ticket
DESCRIPTION:The SPAN Arts AGM is being held on 31st\nJuly 2024.  \nThe AGM will be both online and in person. Tickets are free but booking is required to attend in person as there is a limited capacity.  \n \nTime: 6pm  \nLocation: Span Arts Building\n(approx. 1 hour) \n \nAlso hybrid (No Ticket required): \nhttps://us02web.zoom.us/j/87429763235?pwd=T2Wp7IDz4AD1jbJTjnv8B4qbGqEKOJ.1
URL:https://span-arts-dev.co.uk/event/span-arts-agm-in-person-ticket/
LOCATION:Span Arts Building\, Narberth
ATTACH;FMTTYPE=image/png:https://span-arts-dev.co.uk/wp-content/uploads/2024/06/span-arts-agm-in-person-ticket.png
END:VEVENT
END:VCALENDAR